BEGIN:VCALENDAR
VERSION:2.0
PRODID:-//Tukios.com/
BEGIN:VEVENT
UID:09260e66-b86d-4775-af57-ead7c5927195@www.donaldsonodenton.com
DTSTAMP:20260423T223315Z
DTSTART:20260428T150000Z
DTEND:20260428T163000Z
SUMMARY:Funeral Service
DESCRIPTION:
URL:https://www.donaldsonodenton.com/obituaries/oanh-nguyen
LOCATION:Donaldson Funeral Home & Crematory, P.A. 1411 Annapolis Road  
	Odenton MD 21113
GEO:39.0901025;-76.7088945
END:VEVENT
END:VCALENDAR