BEGIN:VCALENDAR
VERSION:2.0
PRODID:-//Tukios.com/
BEGIN:VEVENT
UID:4da661d0-6221-4b20-a9a9-34ec598bc514@www.donaldsonodenton.com
DTSTAMP:20260425T020217Z
DTSTART:20260429T180000Z
DTEND:20260429T181500Z
SUMMARY:Burial
DESCRIPTION:
URL:https://www.donaldsonodenton.com/obituaries/jirom-andit
LOCATION: 13801 Georgia Avenue  Silver Spring MD 20906
GEO:39.084858;-77.07184
END:VEVENT
END:VCALENDAR