BEGIN:VCALENDAR
VERSION:2.0
PRODID:-//Tukios.com/
BEGIN:VEVENT
UID:d1a5b6eb-87bc-4d28-90d3-01065ce015b9@www.donaldsonodenton.com
DTSTAMP:20260425T015958Z
DTSTART:20260429T140000Z
DTEND:20260429T153000Z
SUMMARY:Funeral Service
DESCRIPTION:
URL:https://www.donaldsonodenton.com/obituaries/jirom-andit
LOCATION:St. Michael's Ethopian Church 3010 Earl Place, NE  Washington DC 
	20018
GEO:38.9287203;-76.9621548
END:VEVENT
END:VCALENDAR