BEGIN:VCALENDAR
VERSION:2.0
PRODID:-//Tukios.com/
BEGIN:VEVENT
UID:b32f1f41-de03-4828-9a97-3b092513a917@www.donaldsonodenton.com
DTSTAMP:20260425T020100Z
DTSTART:20260428T220000Z
DTEND:20260429T000000Z
SUMMARY:Visitation
DESCRIPTION:
URL:https://www.donaldsonodenton.com/obituaries/jirom-andit
LOCATION: 1411 Annapolis Rd  Odenton MD 21113
GEO:39.0898692;-76.7088943
END:VEVENT
END:VCALENDAR